BEGIN:VCALENDAR
VERSION:2.0
PRODID:-//Zollikon Institute - ECPv6.15.18//NONSGML v1.0//EN
CALSCALE:GREGORIAN
METHOD:PUBLISH
X-WR-CALNAME:Zollikon Institute
X-ORIGINAL-URL:https://zollikon.org
X-WR-CALDESC:Events for Zollikon Institute
REFRESH-INTERVAL;VALUE=DURATION:PT1H
X-Robots-Tag:noindex
X-PUBLISHED-TTL:PT1H
BEGIN:VTIMEZONE
TZID:America/New_York
BEGIN:DAYLIGHT
TZOFFSETFROM:-0500
TZOFFSETTO:-0400
TZNAME:EDT
DTSTART:20230312T070000
END:DAYLIGHT
BEGIN:STANDARD
TZOFFSETFROM:-0400
TZOFFSETTO:-0500
TZNAME:EST
DTSTART:20231105T060000
END:STANDARD
BEGIN:DAYLIGHT
TZOFFSETFROM:-0500
TZOFFSETTO:-0400
TZNAME:EDT
DTSTART:20240310T070000
END:DAYLIGHT
BEGIN:STANDARD
TZOFFSETFROM:-0400
TZOFFSETTO:-0500
TZNAME:EST
DTSTART:20241103T060000
END:STANDARD
BEGIN:DAYLIGHT
TZOFFSETFROM:-0500
TZOFFSETTO:-0400
TZNAME:EDT
DTSTART:20250309T070000
END:DAYLIGHT
BEGIN:STANDARD
TZOFFSETFROM:-0400
TZOFFSETTO:-0500
TZNAME:EST
DTSTART:20251102T060000
END:STANDARD
END:VTIMEZONE
BEGIN:VEVENT
DTSTART;VALUE=DATE:20240108
DTEND;VALUE=DATE:20240109
DTSTAMP:20260418T212803
CREATED:20230805T040237Z
LAST-MODIFIED:20230805T040347Z
UID:10000085-1704672000-1704758399@zollikon.org
SUMMARY:Spring 2024 Accredited Semester A classes begin
DESCRIPTION:
URL:https://zollikon.org/event/spring-2024-accredited-semester-a-begins/
END:VEVENT
BEGIN:VEVENT
DTSTART;VALUE=DATE:20240108
DTEND;VALUE=DATE:20240109
DTSTAMP:20260418T212803
CREATED:20230805T040316Z
LAST-MODIFIED:20230805T040316Z
UID:10000086-1704672000-1704758399@zollikon.org
SUMMARY:Spring 2024 Professional Development Semester A classes begin
DESCRIPTION:
URL:https://zollikon.org/event/spring-2024-professional-development-semester-a-classes-begin/
END:VEVENT
END:VCALENDAR